BEGIN:VCALENDAR
VERSION:2.0
PRODID:spatie/icalendar-generator
BEGIN:VTIMEZONE
TZID:UTC
BEGIN:STANDARD
DTSTART:20250727T034909
TZOFFSETFROM:+0000
TZOFFSETTO:+0000
END:STANDARD
END:VTIMEZONE
BEGIN:VEVENT
UID:69e996b5a3bf3
DTSTAMP:20260423T034909Z
SUMMARY:CRIME – Die Technik des Verbrechens
DTSTART:20270408T070000Z
DTEND:20270408T070000Z
END:VEVENT
END:VCALENDAR