BEGIN:VCALENDAR
VERSION:2.0
PRODID:spatie/icalendar-generator
BEGIN:VTIMEZONE
TZID:UTC
BEGIN:STANDARD
DTSTART:20250727T022124
TZOFFSETFROM:+0000
TZOFFSETTO:+0000
END:STANDARD
END:VTIMEZONE
BEGIN:VEVENT
UID:69e9822440144
DTSTAMP:20260423T022124Z
SUMMARY:CRIME – Die Technik des Verbrechens
DTSTART:20270406T070000Z
DTEND:20270406T070000Z
END:VEVENT
END:VCALENDAR