BEGIN:VCALENDAR
VERSION:2.0
PRODID:spatie/icalendar-generator
BEGIN:VTIMEZONE
TZID:UTC
BEGIN:STANDARD
DTSTART:20250727T134912
TZOFFSETFROM:+0000
TZOFFSETTO:+0000
END:STANDARD
END:VTIMEZONE
BEGIN:VEVENT
UID:69ea2358a6bb0
DTSTAMP:20260423T134912Z
SUMMARY:CRIME – Die Technik des Verbrechens
DTSTART:20270401T070000Z
DTEND:20270401T070000Z
END:VEVENT
END:VCALENDAR