BEGIN:VCALENDAR
VERSION:2.0
PRODID:spatie/icalendar-generator
BEGIN:VTIMEZONE
TZID:UTC
BEGIN:STANDARD
DTSTART:20250727T022320
TZOFFSETFROM:+0000
TZOFFSETTO:+0000
END:STANDARD
END:VTIMEZONE
BEGIN:VEVENT
UID:69e9829868f4f
DTSTAMP:20260423T022320Z
SUMMARY:CRIME – Die Technik des Verbrechens
DTSTART:20270318T080000Z
DTEND:20270318T080000Z
END:VEVENT
END:VCALENDAR