BEGIN:VCALENDAR
VERSION:2.0
PRODID:spatie/icalendar-generator
BEGIN:VTIMEZONE
TZID:UTC
BEGIN:STANDARD
DTSTART:20250727T134902
TZOFFSETFROM:+0000
TZOFFSETTO:+0000
END:STANDARD
END:VTIMEZONE
BEGIN:VEVENT
UID:69ea234e1b44f
DTSTAMP:20260423T134902Z
SUMMARY:CRIME – Die Technik des Verbrechens
DTSTART:20270316T080000Z
DTEND:20270316T080000Z
END:VEVENT
END:VCALENDAR