BEGIN:VCALENDAR
VERSION:2.0
PRODID:spatie/icalendar-generator
BEGIN:VTIMEZONE
TZID:UTC
BEGIN:STANDARD
DTSTART:20250727T120155
TZOFFSETFROM:+0000
TZOFFSETTO:+0000
END:STANDARD
END:VTIMEZONE
BEGIN:VEVENT
UID:69ea0a3359b87
DTSTAMP:20260423T120155Z
SUMMARY:CRIME – Die Technik des Verbrechens
DTSTART:20270313T080000Z
DTEND:20270313T080000Z
END:VEVENT
END:VCALENDAR