BEGIN:VCALENDAR
VERSION:2.0
PRODID:spatie/icalendar-generator
BEGIN:VTIMEZONE
TZID:UTC
BEGIN:STANDARD
DTSTART:20250727T150754
TZOFFSETFROM:+0000
TZOFFSETTO:+0000
END:STANDARD
END:VTIMEZONE
BEGIN:VEVENT
UID:69ea35ca467ce
DTSTAMP:20260423T150754Z
SUMMARY:CRIME – Die Technik des Verbrechens
DTSTART:20270311T080000Z
DTEND:20270311T080000Z
END:VEVENT
END:VCALENDAR