BEGIN:VCALENDAR
VERSION:2.0
PRODID:spatie/icalendar-generator
BEGIN:VTIMEZONE
TZID:UTC
BEGIN:STANDARD
DTSTART:20250727T050221
TZOFFSETFROM:+0000
TZOFFSETTO:+0000
END:STANDARD
END:VTIMEZONE
BEGIN:VEVENT
UID:69e9a7dd8f888
DTSTAMP:20260423T050221Z
SUMMARY:CRIME – Die Technik des Verbrechens
DTSTART:20270309T080000Z
DTEND:20270309T080000Z
END:VEVENT
END:VCALENDAR