BEGIN:VCALENDAR
VERSION:2.0
PRODID:spatie/icalendar-generator
BEGIN:VTIMEZONE
TZID:UTC
BEGIN:STANDARD
DTSTART:20250727T062922
TZOFFSETFROM:+0000
TZOFFSETTO:+0000
END:STANDARD
END:VTIMEZONE
BEGIN:VEVENT
UID:69e9bc427d20d
DTSTAMP:20260423T062922Z
SUMMARY:CRIME – Die Technik des Verbrechens
DTSTART:20270227T080000Z
DTEND:20270227T080000Z
END:VEVENT
END:VCALENDAR