BEGIN:VCALENDAR
VERSION:2.0
PRODID:spatie/icalendar-generator
BEGIN:VTIMEZONE
TZID:UTC
BEGIN:STANDARD
DTSTART:20250727T051205
TZOFFSETFROM:+0000
TZOFFSETTO:+0000
END:STANDARD
END:VTIMEZONE
BEGIN:VEVENT
UID:69e9aa25cc97d
DTSTAMP:20260423T051205Z
SUMMARY:CRIME – Die Technik des Verbrechens
DTSTART:20270219T080000Z
DTEND:20270219T080000Z
END:VEVENT
END:VCALENDAR