BEGIN:VCALENDAR
VERSION:2.0
PRODID:spatie/icalendar-generator
BEGIN:VTIMEZONE
TZID:UTC
BEGIN:STANDARD
DTSTART:20250724T150328
TZOFFSETFROM:+0000
TZOFFSETTO:+0000
END:STANDARD
END:VTIMEZONE
BEGIN:VEVENT
UID:69e640409d197
DTSTAMP:20260420T150328Z
SUMMARY:CRIME – Die Technik des Verbrechens
DTSTART:20270130T080000Z
DTEND:20270130T080000Z
END:VEVENT
END:VCALENDAR