BEGIN:VCALENDAR
VERSION:2.0
PRODID:spatie/icalendar-generator
BEGIN:VTIMEZONE
TZID:UTC
BEGIN:STANDARD
DTSTART:20250724T165108
TZOFFSETFROM:+0000
TZOFFSETTO:+0000
END:STANDARD
END:VTIMEZONE
BEGIN:VEVENT
UID:69e6597c1a8f8
DTSTAMP:20260420T165108Z
SUMMARY:CRIME – Die Technik des Verbrechens
DTSTART:20270126T080000Z
DTEND:20270126T080000Z
END:VEVENT
END:VCALENDAR