BEGIN:VCALENDAR
VERSION:2.0
PRODID:spatie/icalendar-generator
BEGIN:VTIMEZONE
TZID:UTC
BEGIN:STANDARD
DTSTART:20250727T034052
TZOFFSETFROM:+0000
TZOFFSETTO:+0000
END:STANDARD
END:VTIMEZONE
BEGIN:VEVENT
UID:69e994c49dda4
DTSTAMP:20260423T034052Z
SUMMARY:CRIME – Die Technik des Verbrechens
DTSTART:20270110T080000Z
DTEND:20270110T080000Z
END:VEVENT
END:VCALENDAR