BEGIN:VCALENDAR
VERSION:2.0
PRODID:spatie/icalendar-generator
BEGIN:VTIMEZONE
TZID:UTC
BEGIN:STANDARD
DTSTART:20250727T121047
TZOFFSETFROM:+0000
TZOFFSETTO:+0000
END:STANDARD
END:VTIMEZONE
BEGIN:VEVENT
UID:69ea0c47ecf08
DTSTAMP:20260423T121047Z
SUMMARY:CRIME – Die Technik des Verbrechens
DTSTART:20261227T080000Z
DTEND:20261227T080000Z
END:VEVENT
END:VCALENDAR