BEGIN:VCALENDAR
VERSION:2.0
PRODID:spatie/icalendar-generator
BEGIN:VTIMEZONE
TZID:UTC
BEGIN:STANDARD
DTSTART:20250727T033644
TZOFFSETFROM:+0000
TZOFFSETTO:+0000
END:STANDARD
END:VTIMEZONE
BEGIN:VEVENT
UID:69e993cc39db0
DTSTAMP:20260423T033644Z
SUMMARY:CRIME – Die Technik des Verbrechens
DTSTART:20261216T080000Z
DTEND:20261216T080000Z
END:VEVENT
END:VCALENDAR