BEGIN:VCALENDAR
VERSION:2.0
PRODID:spatie/icalendar-generator
BEGIN:VTIMEZONE
TZID:UTC
BEGIN:STANDARD
DTSTART:20250727T134735
TZOFFSETFROM:+0000
TZOFFSETTO:+0000
END:STANDARD
END:VTIMEZONE
BEGIN:VEVENT
UID:69ea22f725459
DTSTAMP:20260423T134735Z
SUMMARY:CRIME – Die Technik des Verbrechens
DTSTART:20261126T080000Z
DTEND:20261126T080000Z
END:VEVENT
END:VCALENDAR