BEGIN:VCALENDAR
VERSION:2.0
PRODID:spatie/icalendar-generator
BEGIN:VTIMEZONE
TZID:UTC
BEGIN:STANDARD
DTSTART:20250727T150855
TZOFFSETFROM:+0000
TZOFFSETTO:+0000
END:STANDARD
END:VTIMEZONE
BEGIN:VEVENT
UID:69ea3607e74c4
DTSTAMP:20260423T150855Z
SUMMARY:CRIME – Die Technik des Verbrechens
DTSTART:20261122T080000Z
DTEND:20261122T080000Z
END:VEVENT
END:VCALENDAR