BEGIN:VCALENDAR
VERSION:2.0
PRODID:spatie/icalendar-generator
BEGIN:VTIMEZONE
TZID:UTC
BEGIN:STANDARD
DTSTART:20250726T194913
TZOFFSETFROM:+0000
TZOFFSETTO:+0000
END:STANDARD
END:VTIMEZONE
BEGIN:VEVENT
UID:69e92639ae436
DTSTAMP:20260422T194913Z
SUMMARY:CRIME – Die Technik des Verbrechens
DTSTART:20261104T080000Z
DTEND:20261104T080000Z
END:VEVENT
END:VCALENDAR