BEGIN:VCALENDAR
VERSION:2.0
PRODID:spatie/icalendar-generator
BEGIN:VTIMEZONE
TZID:UTC
BEGIN:STANDARD
DTSTART:20250726T212046
TZOFFSETFROM:+0000
TZOFFSETTO:+0000
END:STANDARD
END:VTIMEZONE
BEGIN:VEVENT
UID:69e93bae5dd3f
DTSTAMP:20260422T212046Z
SUMMARY:CRIME – Die Technik des Verbrechens
DTSTART:20261101T080000Z
DTEND:20261101T080000Z
END:VEVENT
END:VCALENDAR