BEGIN:VCALENDAR
VERSION:2.0
PRODID:spatie/icalendar-generator
BEGIN:VTIMEZONE
TZID:UTC
BEGIN:STANDARD
DTSTART:20250727T034206
TZOFFSETFROM:+0000
TZOFFSETTO:+0000
END:STANDARD
END:VTIMEZONE
BEGIN:VEVENT
UID:69e9950e265ad
DTSTAMP:20260423T034206Z
SUMMARY:CRIME – Die Technik des Verbrechens
DTSTART:20261023T070000Z
DTEND:20261023T070000Z
END:VEVENT
END:VCALENDAR