BEGIN:VCALENDAR
VERSION:2.0
PRODID:spatie/icalendar-generator
BEGIN:VTIMEZONE
TZID:UTC
BEGIN:STANDARD
DTSTART:20250727T134755
TZOFFSETFROM:+0000
TZOFFSETTO:+0000
END:STANDARD
END:VTIMEZONE
BEGIN:VEVENT
UID:69ea230b1564d
DTSTAMP:20260423T134755Z
SUMMARY:CRIME – Die Technik des Verbrechens
DTSTART:20261022T070000Z
DTEND:20261022T070000Z
END:VEVENT
END:VCALENDAR