BEGIN:VCALENDAR
VERSION:2.0
PRODID:spatie/icalendar-generator
BEGIN:VTIMEZONE
TZID:UTC
BEGIN:STANDARD
DTSTART:20250727T062917
TZOFFSETFROM:+0000
TZOFFSETTO:+0000
END:STANDARD
END:VTIMEZONE
BEGIN:VEVENT
UID:69e9bc3d7749f
DTSTAMP:20260423T062917Z
SUMMARY:CRIME – Die Technik des Verbrechens
DTSTART:20261020T070000Z
DTEND:20261020T070000Z
END:VEVENT
END:VCALENDAR