BEGIN:VCALENDAR
VERSION:2.0
PRODID:spatie/icalendar-generator
BEGIN:VTIMEZONE
TZID:UTC
BEGIN:STANDARD
DTSTART:20250727T093621
TZOFFSETFROM:+0000
TZOFFSETTO:+0000
END:STANDARD
END:VTIMEZONE
BEGIN:VEVENT
UID:69e9e81517e49
DTSTAMP:20260423T093621Z
SUMMARY:CRIME – Die Technik des Verbrechens
DTSTART:20261015T070000Z
DTEND:20261015T070000Z
END:VEVENT
END:VCALENDAR