BEGIN:VCALENDAR
VERSION:2.0
PRODID:spatie/icalendar-generator
BEGIN:VTIMEZONE
TZID:UTC
BEGIN:STANDARD
DTSTART:20250727T110200
TZOFFSETFROM:+0000
TZOFFSETTO:+0000
END:STANDARD
END:VTIMEZONE
BEGIN:VEVENT
UID:69e9fc28c48ef
DTSTAMP:20260423T110200Z
SUMMARY:CRIME – Die Technik des Verbrechens
DTSTART:20260927T070000Z
DTEND:20260927T070000Z
END:VEVENT
END:VCALENDAR