BEGIN:VCALENDAR
VERSION:2.0
PRODID:spatie/icalendar-generator
BEGIN:VTIMEZONE
TZID:UTC
BEGIN:STANDARD
DTSTART:20250725T083251
TZOFFSETFROM:+0000
TZOFFSETTO:+0000
END:STANDARD
END:VTIMEZONE
BEGIN:VEVENT
UID:69e736336f9e7
DTSTAMP:20260421T083251Z
SUMMARY:CRIME – Die Technik des Verbrechens
DTSTART:20260908T070000Z
DTEND:20260908T070000Z
END:VEVENT
END:VCALENDAR