BEGIN:VCALENDAR
VERSION:2.0
PRODID:spatie/icalendar-generator
BEGIN:VTIMEZONE
TZID:UTC
BEGIN:STANDARD
DTSTART:20250728T223644
TZOFFSETFROM:+0000
TZOFFSETTO:+0000
END:STANDARD
END:VTIMEZONE
BEGIN:VEVENT
UID:69ebf07cf155a
DTSTAMP:20260424T223644Z
SUMMARY:CRIME – Die Technik des Verbrechens
DTSTART:20260825T070000Z
DTEND:20260825T070000Z
END:VEVENT
END:VCALENDAR