BEGIN:VCALENDAR
VERSION:2.0
PRODID:spatie/icalendar-generator
BEGIN:VTIMEZONE
TZID:UTC
BEGIN:STANDARD
DTSTART:20250727T110204
TZOFFSETFROM:+0000
TZOFFSETTO:+0000
END:STANDARD
END:VTIMEZONE
BEGIN:VEVENT
UID:69e9fc2c92798
DTSTAMP:20260423T110204Z
SUMMARY:CRIME – Die Technik des Verbrechens
DTSTART:20260820T070000Z
DTEND:20260820T070000Z
END:VEVENT
END:VCALENDAR