BEGIN:VCALENDAR
VERSION:2.0
PRODID:spatie/icalendar-generator
BEGIN:VTIMEZONE
TZID:UTC
BEGIN:STANDARD
DTSTART:20250727T110206
TZOFFSETFROM:+0000
TZOFFSETTO:+0000
END:STANDARD
END:VTIMEZONE
BEGIN:VEVENT
UID:69e9fc2e62ed9
DTSTAMP:20260423T110206Z
SUMMARY:CRIME – Die Technik des Verbrechens
DTSTART:20260814T070000Z
DTEND:20260814T070000Z
END:VEVENT
END:VCALENDAR