BEGIN:VCALENDAR
VERSION:2.0
PRODID:spatie/icalendar-generator
BEGIN:VTIMEZONE
TZID:UTC
BEGIN:STANDARD
DTSTART:20250730T024155
TZOFFSETFROM:+0000
TZOFFSETTO:+0000
END:STANDARD
END:VTIMEZONE
BEGIN:VEVENT
UID:69ed7b731b6d6
DTSTAMP:20260426T024155Z
SUMMARY:CRIME – Die Technik des Verbrechens
DTSTART:20260716T070000Z
DTEND:20260716T070000Z
END:VEVENT
END:VCALENDAR