BEGIN:VCALENDAR
VERSION:2.0
PRODID:spatie/icalendar-generator
BEGIN:VTIMEZONE
TZID:UTC
BEGIN:STANDARD
DTSTART:20250727T104601
TZOFFSETFROM:+0000
TZOFFSETTO:+0000
END:STANDARD
END:VTIMEZONE
BEGIN:VEVENT
UID:69e9f86935d11
DTSTAMP:20260423T104601Z
SUMMARY:CRIME – Die Technik des Verbrechens
DTSTART:20260701T070000Z
DTEND:20260701T070000Z
END:VEVENT
END:VCALENDAR