BEGIN:VCALENDAR
VERSION:2.0
PRODID:spatie/icalendar-generator
BEGIN:VTIMEZONE
TZID:UTC
BEGIN:STANDARD
DTSTART:20250724T003050
TZOFFSETFROM:+0000
TZOFFSETTO:+0000
END:STANDARD
END:VTIMEZONE
BEGIN:VEVENT
UID:69e573babe2af
DTSTAMP:20260420T003050Z
SUMMARY:Kreativzeit im N³-Bibliothekslabor
DTSTART:20260429T140000Z
DTEND:20260429T160000Z
END:VEVENT
END:VCALENDAR