BEGIN:VCALENDAR
VERSION:2.0
PRODID:spatie/icalendar-generator
BEGIN:VTIMEZONE
TZID:UTC
BEGIN:STANDARD
DTSTART:20250724T003024
TZOFFSETFROM:+0000
TZOFFSETTO:+0000
END:STANDARD
END:VTIMEZONE
BEGIN:VEVENT
UID:69e573a029d8c
DTSTAMP:20260420T003024Z
SUMMARY:Kreativzeit im N³-Bibliothekslabor
DTSTART:20260422T140000Z
DTEND:20260422T160000Z
END:VEVENT
END:VCALENDAR