BEGIN:VCALENDAR
VERSION:2.0
PRODID:spatie/icalendar-generator
BEGIN:VTIMEZONE
TZID:UTC
BEGIN:STANDARD
DTSTART:20250724T113844
TZOFFSETFROM:+0000
TZOFFSETTO:+0000
END:STANDARD
END:VTIMEZONE
BEGIN:VEVENT
UID:69e610449d16c
DTSTAMP:20260420T113844Z
SUMMARY:Maimess
DTSTART:20260509T110000Z
DTEND:20260509T210000Z
END:VEVENT
END:VCALENDAR