BEGIN:VCALENDAR
VERSION:2.0
PRODID:spatie/icalendar-generator
BEGIN:VTIMEZONE
TZID:UTC
BEGIN:STANDARD
DTSTART:20250724T113850
TZOFFSETFROM:+0000
TZOFFSETTO:+0000
END:STANDARD
END:VTIMEZONE
BEGIN:VEVENT
UID:69e6104aa8326
DTSTAMP:20260420T113850Z
SUMMARY:Maimess
DTSTART:20260508T110000Z
DTEND:20260508T210000Z
END:VEVENT
END:VCALENDAR