BEGIN:VCALENDAR
VERSION:2.0
PRODID:spatie/icalendar-generator
BEGIN:VTIMEZONE
TZID:UTC
BEGIN:STANDARD
DTSTART:20250724T074501
TZOFFSETFROM:+0000
TZOFFSETTO:+0000
END:STANDARD
END:VTIMEZONE
BEGIN:VEVENT
UID:69e5d97dc066a
DTSTAMP:20260420T074501Z
SUMMARY:Maimess
DTSTART:20260504T110000Z
DTEND:20260504T210000Z
END:VEVENT
END:VCALENDAR