BEGIN:VCALENDAR
VERSION:2.0
PRODID:spatie/icalendar-generator
BEGIN:VTIMEZONE
TZID:UTC
BEGIN:STANDARD
DTSTART:20250723T202650
TZOFFSETFROM:+0000
TZOFFSETTO:+0000
END:STANDARD
END:VTIMEZONE
BEGIN:VEVENT
UID:69e53a8a77157
DTSTAMP:20260419T202650Z
SUMMARY:CHAKO Habekost - Die neue Show – Es kummt wie's kummt
DTSTART:20261227T180000Z
DTEND:20261227T180000Z
END:VEVENT
END:VCALENDAR