BEGIN:VCALENDAR
VERSION:2.0
PRODID:spatie/icalendar-generator
BEGIN:VTIMEZONE
TZID:UTC
BEGIN:STANDARD
DTSTART:20250725T235105
TZOFFSETFROM:+0000
TZOFFSETTO:+0000
END:STANDARD
END:VTIMEZONE
BEGIN:VEVENT
UID:69e80d6917640
DTSTAMP:20260421T235105Z
SUMMARY:Neckarau spielt - Ü50 Gesellschafts- und Brettspiele-Treffen
DTSTART:20270728T150000Z
DTEND:20270728T163000Z
END:VEVENT
END:VCALENDAR