BEGIN:VCALENDAR
VERSION:2.0
PRODID:spatie/icalendar-generator
BEGIN:VTIMEZONE
TZID:UTC
BEGIN:STANDARD
DTSTART:20250724T003018
TZOFFSETFROM:+0000
TZOFFSETTO:+0000
END:STANDARD
END:VTIMEZONE
BEGIN:VEVENT
UID:69e5739abeedf
DTSTAMP:20260420T003018Z
SUMMARY:Rollenspieltreff in der Neckarstadt-West
DTSTART:20260508T160000Z
DTEND:20260508T160000Z
END:VEVENT
END:VCALENDAR