BEGIN:VCALENDAR
VERSION:2.0
PRODID:spatie/icalendar-generator
BEGIN:VTIMEZONE
TZID:UTC
BEGIN:STANDARD
DTSTART:20250724T021139
TZOFFSETFROM:+0000
TZOFFSETTO:+0000
END:STANDARD
END:VTIMEZONE
BEGIN:VEVENT
UID:69e58b5b0572e
DTSTAMP:20260420T021139Z
SUMMARY:Lesezirkel Herzogenried
DTSTART:20260423T153000Z
DTEND:20260423T170000Z
END:VEVENT
END:VCALENDAR