BEGIN:VCALENDAR
VERSION:2.0
PRODID:spatie/icalendar-generator
BEGIN:VTIMEZONE
TZID:UTC
BEGIN:STANDARD
DTSTART:20250724T060830
TZOFFSETFROM:+0000
TZOFFSETTO:+0000
END:STANDARD
END:VTIMEZONE
BEGIN:VEVENT
UID:69e5c2de55099
DTSTAMP:20260420T060830Z
SUMMARY:Vorlesestunde: Bücherspaß
DTSTART:20260429T131500Z
DTEND:20260429T131500Z
END:VEVENT
END:VCALENDAR