BEGIN:VCALENDAR
VERSION:2.0
PRODID:spatie/icalendar-generator
BEGIN:VTIMEZONE
TZID:UTC
BEGIN:STANDARD
DTSTART:20250725T100642
TZOFFSETFROM:+0000
TZOFFSETTO:+0000
END:STANDARD
END:VTIMEZONE
BEGIN:VEVENT
UID:69e74c32cfe48
DTSTAMP:20260421T100642Z
SUMMARY:Jugendrollenspieltreff
DTSTART:20260425T080000Z
DTEND:20260425T120000Z
END:VEVENT
END:VCALENDAR