BEGIN:VCALENDAR
VERSION:2.0
PRODID:spatie/icalendar-generator
BEGIN:VTIMEZONE
TZID:UTC
BEGIN:STANDARD
DTSTART:20250727T001014
TZOFFSETFROM:+0000
TZOFFSETTO:+0000
END:STANDARD
END:VTIMEZONE
BEGIN:VEVENT
UID:69e9636687a1a
DTSTAMP:20260423T001014Z
SUMMARY:Silent Reading Club
DTSTART:20260428T153000Z
DTEND:20260428T170000Z
END:VEVENT
END:VCALENDAR