BEGIN:VCALENDAR
VERSION:2.0
PRODID:spatie/icalendar-generator
BEGIN:VTIMEZONE
TZID:UTC
BEGIN:STANDARD
DTSTART:20250724T014738
TZOFFSETFROM:+0000
TZOFFSETTO:+0000
END:STANDARD
END:VTIMEZONE
BEGIN:VEVENT
UID:69e585baed8c0
DTSTAMP:20260420T014738Z
SUMMARY:Bücherspaß
DTSTART:20260424T080000Z
DTEND:20260424T080000Z
END:VEVENT
END:VCALENDAR