BEGIN:VCALENDAR
VERSION:2.0
PRODID:spatie/icalendar-generator
BEGIN:VTIMEZONE
TZID:UTC
BEGIN:STANDARD
DTSTART:20250730T000825
TZOFFSETFROM:+0000
TZOFFSETTO:+0000
END:STANDARD
END:VTIMEZONE
BEGIN:VEVENT
UID:69ed5779e4cf0
DTSTAMP:20260426T000825Z
SUMMARY:Intersektionaler queer-feministischer Buchclub
DTSTART:20261104T160000Z
DTEND:20261104T160000Z
END:VEVENT
END:VCALENDAR