BEGIN:VCALENDAR
VERSION:2.0
PRODID:spatie/icalendar-generator
BEGIN:VTIMEZONE
TZID:UTC
BEGIN:STANDARD
DTSTART:20250730T001206
TZOFFSETFROM:+0000
TZOFFSETTO:+0000
END:STANDARD
END:VTIMEZONE
BEGIN:VEVENT
UID:69ed58569bcdd
DTSTAMP:20260426T001206Z
SUMMARY:Intersektionaler queer-feministischer Buchclub
DTSTART:20260826T150000Z
DTEND:20260826T150000Z
END:VEVENT
END:VCALENDAR