BEGIN:VCALENDAR
VERSION:2.0
PRODID:spatie/icalendar-generator
BEGIN:VTIMEZONE
TZID:UTC
BEGIN:STANDARD
DTSTART:20250725T100642
TZOFFSETFROM:+0000
TZOFFSETTO:+0000
END:STANDARD
END:VTIMEZONE
BEGIN:VEVENT
UID:69e74c32b8b5e
DTSTAMP:20260421T100642Z
SUMMARY:Offene Schreibwerkstatt \"Creative Writing\"
DTSTART:20260520T160000Z
DTEND:20260520T180000Z
END:VEVENT
END:VCALENDAR