BEGIN:VCALENDAR
VERSION:2.0
PRODID:spatie/icalendar-generator
BEGIN:VTIMEZONE
TZID:UTC
BEGIN:STANDARD
DTSTART:20250726T230033
TZOFFSETFROM:+0000
TZOFFSETTO:+0000
END:STANDARD
END:VTIMEZONE
BEGIN:VEVENT
UID:69e9531160f2a
DTSTAMP:20260422T230033Z
SUMMARY:\"Es sind für die Stadt Mannheim 24 Stadträte zu wählen.\" Die e
 rsten Nachkriegswahlen in Mannheim 1946
DTSTART:20260527T160000Z
DTEND:20260527T180000Z
END:VEVENT
END:VCALENDAR