BEGIN:VCALENDAR
VERSION:2.0
PRODID:spatie/icalendar-generator
BEGIN:VTIMEZONE
TZID:UTC
BEGIN:STANDARD
DTSTART:20250728T084908
TZOFFSETFROM:+0000
TZOFFSETTO:+0000
END:STANDARD
END:VTIMEZONE
BEGIN:VEVENT
UID:69eb2e840fa50
DTSTAMP:20260424T084908Z
SUMMARY:Serdar Somuncu - HASSIAS: Er ist wieder da. Und er hasst euch noch 
 immer
DTSTART:20260913T170000Z
DTEND:20260913T170000Z
END:VEVENT
END:VCALENDAR