BEGIN:VCALENDAR
VERSION:2.0
PRODID:spatie/icalendar-generator
BEGIN:VTIMEZONE
TZID:UTC
BEGIN:STANDARD
DTSTART:20250724T203757
TZOFFSETFROM:+0000
TZOFFSETTO:+0000
END:STANDARD
END:VTIMEZONE
BEGIN:VEVENT
UID:69e68ea50252d
DTSTAMP:20260420T203757Z
SUMMARY:Academy of St. Martin in the Fields / Lucas & Arthur Jussen
DTSTART:20260514T180000Z
DTEND:20260514T180000Z
END:VEVENT
END:VCALENDAR