BEGIN:VCALENDAR
VERSION:2.0
PRODID:spatie/icalendar-generator
BEGIN:VTIMEZONE
TZID:UTC
BEGIN:STANDARD
DTSTART:20250724T213910
TZOFFSETFROM:+0000
TZOFFSETTO:+0000
END:STANDARD
END:VTIMEZONE
BEGIN:VEVENT
UID:69e69cfe60acb
DTSTAMP:20260420T213910Z
SUMMARY:Christian CHAKO Habekost - Die neue Show
DTSTART:20260724T180000Z
DTEND:20260724T200000Z
END:VEVENT
END:VCALENDAR